BEGIN:VCALENDAR
VERSION:2.0
PRODID:-//isi-hamburg.org//isi-hamburg.org//DE
CALSCALE:GREGORIAN
BEGIN:VEVENT
DTSTART:20260831T130000
DTEND:20260904T170000
LOCATION:Martinshaus, Kanalufer 48, 24768 Rendsburg 
DTSTAMP:20260424T043354
SUMMARY:Soziometrie, psychodramatische Aufstellungen in Arbeitskontexten
URL:https://isi-hamburg.org
DESCRIPTION:Beschreibung zum Termin: Martinshaus, Kanalufer 48, 24768 Rendsburg 
UID:5348-20260831T130000-20260904T170000
END:VEVENT
END:VCALENDAR